BEGIN:VCALENDAR
VERSION:2.0
PRODID:-//hacksw/handcal//NONSGML v1.0//EN
CALSCALE:GREGORIAN
BEGIN:VEVENT
LOCATION:7th Ave. & 32nd Street\, New York City\, NY 10001
DESCRIPTION:
DTSTART:20260708T230000Z
DTEND:20260709T010000Z
SUMMARY:Louis Tomlinson
URL;VALUE=URI:https://www.axs.com/events/1162403/louis-tomlinson-tickets
DTSTAMP:20260424T013142Z
UID:69eac7fe4ca97
END:VEVENT
END:VCALENDAR
