BEGIN:VCALENDAR
VERSION:2.0
PRODID:-//hacksw/handcal//NONSGML v1.0//EN
CALSCALE:GREGORIAN
BEGIN:VEVENT
LOCATION:1260 Avenue of the Americas\, New York City\, NY 10121
DESCRIPTION:Casting Announced! Visit nyc.lesmis.com for details
DTSTART:20260726T180000Z
DTEND:20260726T200000Z
SUMMARY:Les Misérables: The Arena Concert Spectacular
URL;VALUE=URI:https://www.axs.com/events/1172395/les-miserables-the-arena-concert-spectacular-tickets
DTSTAMP:20260422T010244Z
UID:69e81e34aa07f
END:VEVENT
END:VCALENDAR
