BEGIN:VCALENDAR
VERSION:2.0
PRODID:-//hacksw/handcal//NONSGML v1.0//EN
CALSCALE:GREGORIAN
BEGIN:VEVENT
LOCATION:1260 Avenue of the Americas\, New York City\, NY 10121
DESCRIPTION:Casting Announced! Visit nyc.lesmis.com for details
DTSTART:20260801T000000Z
DTEND:20260801T020000Z
SUMMARY:Les Misérables: The Arena Concert Spectacular
URL;VALUE=URI:https://www.axs.com/events/1173257/les-miserables-the-arena-concert-spectacular-tickets
DTSTAMP:20260423T193716Z
UID:69ea74ec8ba12
END:VEVENT
END:VCALENDAR
