BEGIN:VCALENDAR
VERSION:2.0
PRODID:-//hacksw/handcal//NONSGML v1.0//EN
CALSCALE:GREGORIAN
BEGIN:VEVENT
LOCATION:1026 Spring Garden Street\, Philadelphia\, PA 19123
DESCRIPTION:THERE IS A STRICT TICKET LIMIT. ORDERS EXCEEDING SET TICKET LIMITS ARE SUBJECT TO CANCELLATION WITHOUT NOTICE.
For ADA assistance and enquiries please e-mail : assistance@utphilly.com
For general help : info@utphilly.com
DTSTART:20260621T000000Z
DTEND:20260621T020000Z
SUMMARY:WOLFMOTHER
URL;VALUE=URI:https://www.axs.com/events/1210655/wolfmother-tickets
DTSTAMP:20260421T233338Z
UID:69e809521e6a4
END:VEVENT
END:VCALENDAR
