BEGIN:VCALENDAR
VERSION:2.0
PRODID:-//hacksw/handcal//NONSGML v1.0//EN
CALSCALE:GREGORIAN
BEGIN:VEVENT
LOCATION:1260 Avenue of the Americas\, New York City\, NY 10121
DESCRIPTION:Casting Announced! Visit nyc.lesmis.com for details
DTSTART:20260806T233000Z
DTEND:20260807T013000Z
SUMMARY:Les Misérables: The Arena Concert Spectacular
URL;VALUE=URI:https://www.axs.com/events/1214815/les-miserables-the-arena-concert-spectacular-tickets
DTSTAMP:20260424T023238Z
UID:69ead6468dcac
END:VEVENT
END:VCALENDAR
