BEGIN:VCALENDAR
VERSION:2.0
PRODID:-//hacksw/handcal//NONSGML v1.0//EN
CALSCALE:GREGORIAN
BEGIN:VEVENT
LOCATION:1260 Avenue of the Americas\, New York City\, NY 10121
DESCRIPTION:Casting Announced! Visit nyc.lesmis.com for details
DTSTART:20260809T180000Z
DTEND:20260809T200000Z
SUMMARY:Les Misérables: The Arena Concert Spectacular
URL;VALUE=URI:https://www.axs.com/events/1215135/les-miserables-the-arena-concert-spectacular-tickets
DTSTAMP:20260423T225924Z
UID:69eaa44c44852
END:VEVENT
END:VCALENDAR
