BEGIN:VCALENDAR
VERSION:2.0
PRODID:-//hacksw/handcal//NONSGML v1.0//EN
CALSCALE:GREGORIAN
BEGIN:VEVENT
LOCATION:125 E.11th Street\, New York\, NY 10003
DESCRIPTION:
DTSTART:20260812T000000Z
DTEND:20260812T020000Z
SUMMARY:Chance Peña
URL;VALUE=URI:https://www.axs.com/events/1240825/chance-pena-tickets
DTSTAMP:20260424T160258Z
UID:69eb943237742
END:VEVENT
END:VCALENDAR
