BEGIN:VCALENDAR
VERSION:2.0
PRODID:-//hacksw/handcal//NONSGML v1.0//EN
CALSCALE:GREGORIAN
BEGIN:VEVENT
LOCATION:7th Ave. & 32nd Street\, New York City\, NY 10001
DESCRIPTION:
DTSTART:20260620T233000Z
DTEND:20260621T013000Z
SUMMARY:An Evening With Goose
URL;VALUE=URI:https://www.axs.com/events/1290015/an-evening-with-goose-tickets
DTSTAMP:20260424T002038Z
UID:69eab7563e047
END:VEVENT
END:VCALENDAR
