BEGIN:VCALENDAR
VERSION:2.0
PRODID:-//hacksw/handcal//NONSGML v1.0//EN
CALSCALE:GREGORIAN
BEGIN:VEVENT
LOCATION:Gardner Ave. & Thomas St.\, Brooklyn\, NY 11222
DESCRIPTION:
DTSTART:20260607T190000Z
DTEND:20260607T210000Z
SUMMARY:Chris Lake
URL;VALUE=URI:https://www.axs.com/events/1304874/chris-lake-tickets
DTSTAMP:20260425T164636Z
UID:69ecefec39d7f
END:VEVENT
END:VCALENDAR
