BEGIN:VCALENDAR
VERSION:2.0
PRODID:-//hacksw/handcal//NONSGML v1.0//EN
CALSCALE:GREGORIAN
BEGIN:VEVENT
LOCATION:125 E.11th Street\, New York\, NY 10003
DESCRIPTION:
DTSTART:20260529T000000Z
DTEND:20260529T020000Z
SUMMARY:smerz
URL;VALUE=URI:https://www.axs.com/events/1356325/smerz-tickets
DTSTAMP:20260423T224933Z
UID:69eaa1fd2d0a4
END:VEVENT
END:VCALENDAR
