BEGIN:VCALENDAR
VERSION:2.0
PRODID:-//hacksw/handcal//NONSGML v1.0//EN
CALSCALE:GREGORIAN
BEGIN:VEVENT
LOCATION:66 North 6th Street\, Brooklyn\, NY 11249
DESCRIPTION:Preferred Mezzanine includes access to the house left mezzanine on the second floor with limited lounge seating available first come\, first served.
DTSTART:20260620T230000Z
DTEND:20260621T010000Z
SUMMARY:I Am The Avalanche
URL;VALUE=URI:https://www.axs.com/events/1357848/i-am-the-avalanche-tickets
DTSTAMP:20260424T125849Z
UID:69eb69097a8f7
END:VEVENT
END:VCALENDAR
