BEGIN:VCALENDAR
VERSION:2.0
PRODID:-//hacksw/handcal//NONSGML v1.0//EN
CALSCALE:GREGORIAN
BEGIN:VEVENT
LOCATION:708 East Broad Street\, Richmond\, VA 23219
DESCRIPTION:
DTSTART:20260729T000000Z
DTEND:20260729T020000Z
SUMMARY:Dope Lemon
URL;VALUE=URI:https://www.axs.com/events/1403057/dope-lemon-tickets
DTSTAMP:20260420T201439Z
UID:69e6892f15e41
END:VEVENT
END:VCALENDAR
