BEGIN:VCALENDAR
VERSION:2.0
PRODID:-//hacksw/handcal//NONSGML v1.0//EN
CALSCALE:GREGORIAN
BEGIN:VEVENT
LOCATION:201 Market Street\, Virginia Beach\, VA 23462
DESCRIPTION:
DTSTART:20260809T000000Z
DTEND:20260809T020000Z
SUMMARY:PJ Morton
URL;VALUE=URI:https://www.axs.com/events/1404517/pj-morton-tickets
DTSTAMP:20260421T213217Z
UID:69e7ece151eba
END:VEVENT
END:VCALENDAR
