BEGIN:VCALENDAR
VERSION:2.0
PRODID:-//hacksw/handcal//NONSGML v1.0//EN
CALSCALE:GREGORIAN
BEGIN:VEVENT
LOCATION:89 Guest Street\, Boston\, MA 02135
DESCRIPTION:Trust for Public Land is the proud charitable partner of Modest Mouse&rsquo\;s 2026 tour. $.25 from each ticket purchased will go to The Shout Syndicate\, a Boston-based\, volunteer-run fundraising effort who raises money to help fund youth-led arts programs at proven non-profit creative youth development organizations in Greater Boston. Housed at The Boston Foundation\, The Shout Syndicate works in partnership with the Mayor's Office of Arts &amp\; Culture's creative plan\, Boston Creates. https://www.theshoutsyndicate.com/
DTSTART:20261008T000000Z
DTEND:20261008T020000Z
SUMMARY:Modest Mouse
URL;VALUE=URI:https://www.axs.com/events/1405871/modest-mouse-tickets
DTSTAMP:20260422T233139Z
UID:69e95a5b07517
END:VEVENT
END:VCALENDAR
