BEGIN:VCALENDAR
VERSION:2.0
PRODID:-//hacksw/handcal//NONSGML v1.0//EN
CALSCALE:GREGORIAN
BEGIN:VEVENT
LOCATION:291 N Keswick Ave\, Glenside\, PA 19038
DESCRIPTION:
DTSTART:20261025T000000Z
DTEND:20261025T020000Z
SUMMARY:The Musical Box
URL;VALUE=URI:https://www.axs.com/events/1408134/the-musical-box-tickets
DTSTAMP:20260420T201439Z
UID:69e6892f12881
END:VEVENT
END:VCALENDAR
