BEGIN:VCALENDAR
VERSION:2.0
PRODID:-//hacksw/handcal//NONSGML v1.0//EN
CALSCALE:GREGORIAN
BEGIN:VEVENT
LOCATION:89 Guest Street\, Boston\, MA 02135
DESCRIPTION:
DTSTART:20260925T234500Z
DTEND:20260926T014500Z
SUMMARY:Tinlicker
URL;VALUE=URI:https://www.axs.com/events/1408960/tinlicker-tickets
DTSTAMP:20260422T233139Z
UID:69e95a5b07755
END:VEVENT
END:VCALENDAR
