BEGIN:VCALENDAR
VERSION:2.0
PRODID:-//hacksw/handcal//NONSGML v1.0//EN
CALSCALE:GREGORIAN
BEGIN:VEVENT
LOCATION:1 Tennis Place\, Forest Hills\, NY 11375
DESCRIPTION:
DTSTART:20260918T230000Z
DTEND:20260919T010000Z
SUMMARY:Erykah Badu
URL;VALUE=URI:https://www.axs.com/events/1409209/erykah-badu-tickets
DTSTAMP:20260420T201439Z
UID:69e6892f78b4a
END:VEVENT
END:VCALENDAR
