BEGIN:VCALENDAR
VERSION:2.0
PRODID:-//hacksw/handcal//NONSGML v1.0//EN
CALSCALE:GREGORIAN
BEGIN:VEVENT
LOCATION:524 Main Street\, Stroudsburg\, PA 18360
DESCRIPTION:
DTSTART:20261003T180000Z
DTEND:20261003T200000Z
SUMMARY:Pinkalicious The Musical
URL;VALUE=URI:https://www.axs.com/events/1413451/pinkalicious-the-musical-tickets
DTSTAMP:20260421T202911Z
UID:69e7de1791b20
END:VEVENT
END:VCALENDAR
