BEGIN:VCALENDAR
VERSION:2.0
PRODID:-//hacksw/handcal//NONSGML v1.0//EN
CALSCALE:GREGORIAN
BEGIN:VEVENT
LOCATION:610 West 56th Street\, New York\, NY 10019
DESCRIPTION:
DTSTART:20261025T230000Z
DTEND:20261026T010000Z
SUMMARY:The Story So Far
URL;VALUE=URI:https://www.axs.com/events/1413452/the-story-so-far-tickets
DTSTAMP:20260420T223813Z
UID:69e6aad5dfb24
END:VEVENT
END:VCALENDAR
