BEGIN:VCALENDAR
VERSION:2.0
PRODID:-//hacksw/handcal//NONSGML v1.0//EN
CALSCALE:GREGORIAN
BEGIN:VEVENT
LOCATION:110 Front Street\, Hudson\, NY 12534
DESCRIPTION:
DTSTART:20260723T000000Z
DTEND:20260723T020000Z
SUMMARY:Wednesday
URL;VALUE=URI:https://www.axs.com/events/1413476/wednesday-tickets
DTSTAMP:20260421T213254Z
UID:69e7ed0613958
END:VEVENT
END:VCALENDAR
