BEGIN:VCALENDAR
VERSION:2.0
PRODID:-//hacksw/handcal//NONSGML v1.0//EN
CALSCALE:GREGORIAN
BEGIN:VEVENT
LOCATION:1026 Spring Garden Street\, Philadelphia\, PA 19123
DESCRIPTION:This event is 21 and over. Any ticket holder unable to present valid identification indicating that they are at least 21 years of age will not be admitted to this event\, and will not be eligible for a refund. Valid photo ID required at door for entry.
For ADA assistance and enquiries please e-mail :&nbsp\;UTassistance@bowerypresents.com
For general help :&nbsp\;UTinfo@bowerypresents.com.
DTSTART:20260924T000000Z
DTEND:20260924T020000Z
SUMMARY:The Charlatans UK  (21+ Event)
URL;VALUE=URI:https://www.axs.com/events/1413671/the-charlatans-uk-21-event-tickets
DTSTAMP:20260421T213217Z
UID:69e7ece151227
END:VEVENT
END:VCALENDAR
