BEGIN:VCALENDAR
VERSION:2.0
PRODID:-//hacksw/handcal//NONSGML v1.0//EN
CALSCALE:GREGORIAN
BEGIN:VEVENT
LOCATION:524 Main Street\, Stroudsburg\, PA 18360
DESCRIPTION:
DTSTART:20260620T000000Z
DTEND:20260620T020000Z
SUMMARY:Amy Grant
URL;VALUE=URI:https://www.axs.com/events/1414675/amy-grant-tickets
DTSTAMP:20260420T211227Z
UID:69e696bb46290
END:VEVENT
END:VCALENDAR
