BEGIN:VCALENDAR
VERSION:2.0
PRODID:-//hacksw/handcal//NONSGML v1.0//EN
CALSCALE:GREGORIAN
BEGIN:VEVENT
LOCATION:317 Monticello Avenue\, Norfolk\, VA 23510
DESCRIPTION:
DTSTART:20260914T000000Z
DTEND:20260914T020000Z
SUMMARY:Streetlight Manifesto
URL;VALUE=URI:https://www.axs.com/events/1415070/streetlight-manifesto-tickets
DTSTAMP:20260422T003304Z
UID:69e817405a846
END:VEVENT
END:VCALENDAR
