BEGIN:VCALENDAR
VERSION:2.0
PRODID:-//hacksw/handcal//NONSGML v1.0//EN
CALSCALE:GREGORIAN
BEGIN:VEVENT
LOCATION:708 East Broad Street\, Richmond\, VA 23219
DESCRIPTION:
DTSTART:20261121T010000Z
DTEND:20261121T030000Z
SUMMARY:Streetlight Manifesto
URL;VALUE=URI:https://www.axs.com/events/1415084/streetlight-manifesto-tickets
DTSTAMP:20260422T003133Z
UID:69e816e527744
END:VEVENT
END:VCALENDAR
