BEGIN:VCALENDAR
VERSION:2.0
PRODID:-//hacksw/handcal//NONSGML v1.0//EN
CALSCALE:GREGORIAN
BEGIN:VEVENT
LOCATION:319 Frost Street\, Brooklyn\, NY 11222
DESCRIPTION:Preferred Terrace includes access to a prime viewing area on second floor balcony and the adjacent Ludlow Lounge\, including private restroom.
DTSTART:20260927T000000Z
DTEND:20260927T020000Z
SUMMARY:The Charlatans UK
URL;VALUE=URI:https://www.axs.com/events/1415089/the-charlatans-uk-tickets
DTSTAMP:20260422T182538Z
UID:69e912a2dd281
END:VEVENT
END:VCALENDAR
