BEGIN:VCALENDAR
VERSION:2.0
PRODID:-//hacksw/handcal//NONSGML v1.0//EN
CALSCALE:GREGORIAN
BEGIN:VEVENT
LOCATION:706 S. Jefferson St.\, Roanoke\, VA 24001
DESCRIPTION:
DTSTART:20260922T230000Z
DTEND:20260923T010000Z
SUMMARY:Violent Femmes
URL;VALUE=URI:https://www.axs.com/events/1415094/violent-femmes-tickets
DTSTAMP:20260421T192556Z
UID:69e7cf4480c1d
END:VEVENT
END:VCALENDAR
