BEGIN:VCALENDAR
VERSION:2.0
PRODID:-//hacksw/handcal//NONSGML v1.0//EN
CALSCALE:GREGORIAN
BEGIN:VEVENT
LOCATION:421 N. 7th Street\, Philadelphia\, PA 19123
DESCRIPTION:
DTSTART:20260912T000000Z
DTEND:20260912T020000Z
SUMMARY:Streetlight Manifesto
URL;VALUE=URI:https://www.axs.com/events/1415107/streetlight-manifesto-tickets
DTSTAMP:20260422T003304Z
UID:69e817405751c
END:VEVENT
END:VCALENDAR
