BEGIN:VCALENDAR
VERSION:2.0
PRODID:-//hacksw/handcal//NONSGML v1.0//EN
CALSCALE:GREGORIAN
BEGIN:VEVENT
LOCATION:1026 Spring Garden Street\, Philadelphia\, PA 19123
DESCRIPTION:The event organizer has decided that resale of tickets on AXS Resale will not be immediately available for this event but may become available at a later date. Resale tickets may exceed face value and prices are NOT set by the artist or artist team. Please review the terms of AXS&rsquo\;s Purchase Agreement (axs.com/purchaseagreement) for more information. 
For ADA assistance and enquiries please e-mail :&nbsp\;UTassistance@bowerypresents.com
For general help :&nbsp\;UTinfo@bowerypresents.com
DTSTART:20260926T000000Z
DTEND:20260926T020000Z
SUMMARY:Jane Remover
URL;VALUE=URI:https://www.axs.com/events/1415117/jane-remover-tickets
DTSTAMP:20260420T211226Z
UID:69e696babd387
END:VEVENT
END:VCALENDAR
