BEGIN:VCALENDAR
VERSION:2.0
PRODID:-//hacksw/handcal//NONSGML v1.0//EN
CALSCALE:GREGORIAN
BEGIN:VEVENT
LOCATION:610 West 56th Street\, New York\, NY 10019
DESCRIPTION:
DTSTART:20260628T020000Z
DTEND:20260628T040000Z
SUMMARY:Punchis Punchis: Banda Rave Experience
URL;VALUE=URI:https://www.axs.com/events/1415136/punchis-punchis-banda-rave-experience-tickets
DTSTAMP:20260422T021417Z
UID:69e82ef97ee74
END:VEVENT
END:VCALENDAR
