BEGIN:VCALENDAR
VERSION:2.0
PRODID:-//hacksw/handcal//NONSGML v1.0//EN
CALSCALE:GREGORIAN
BEGIN:VEVENT
LOCATION:125 E.11th Street\, New York\, NY 10003
DESCRIPTION:
DTSTART:20260924T000000Z
DTEND:20260924T020000Z
SUMMARY:The Milk Carton Kids Fall Tour
URL;VALUE=URI:https://www.axs.com/events/1415258/the-milk-carton-kids-fall-tour-tickets
DTSTAMP:20260422T234025Z
UID:69e95c6970dff
END:VEVENT
END:VCALENDAR
