BEGIN:VCALENDAR
VERSION:2.0
PRODID:-//hacksw/handcal//NONSGML v1.0//EN
CALSCALE:GREGORIAN
BEGIN:VEVENT
LOCATION:89 Guest Street\, Boston\, MA 02135
DESCRIPTION:$.25 from each ticket purchased will go to The Shout Syndicate\, a Boston-based\, volunteer-run fundraising effort who raises money to help fund youth-led arts programs at proven non-profit creative youth development organizations in Greater Boston. Housed at The Boston Foundation\, The Shout Syndicate works in partnership with the Mayor's Office of Arts & Culture's creative plan\, Boston Creates.
https://www.theshoutsyndicate.com/  

DTSTART:20261205T010000Z
DTEND:20261205T030000Z
SUMMARY:Streetlight Manifesto
URL;VALUE=URI:https://www.axs.com/events/1415390/streetlight-manifesto-tickets
DTSTAMP:20260422T003414Z
UID:69e817865b12a
END:VEVENT
END:VCALENDAR
