BEGIN:VCALENDAR
VERSION:2.0
PRODID:-//hacksw/handcal//NONSGML v1.0//EN
CALSCALE:GREGORIAN
BEGIN:VEVENT
LOCATION:209 4th Avenue\, Asbury Park\, NJ 07712
DESCRIPTION:
DTSTART:20260727T000000Z
DTEND:20260727T020000Z
SUMMARY:Spafford
URL;VALUE=URI:https://www.axs.com/events/1415601/spafford-tickets
DTSTAMP:20260421T210244Z
UID:69e7e5f40feec
END:VEVENT
END:VCALENDAR
