BEGIN:VCALENDAR
VERSION:2.0
PRODID:-//hacksw/handcal//NONSGML v1.0//EN
CALSCALE:GREGORIAN
BEGIN:VEVENT
LOCATION:610 West 56th Street\, New York\, NY 10019
DESCRIPTION:
DTSTART:20260829T000000Z
DTEND:20260829T020000Z
SUMMARY:Labrinth
URL;VALUE=URI:https://www.axs.com/events/1415637/labrinth-tickets
DTSTAMP:20260420T234615Z
UID:69e6bac789265
END:VEVENT
END:VCALENDAR
