BEGIN:VCALENDAR
VERSION:2.0
PRODID:-//hacksw/handcal//NONSGML v1.0//EN
CALSCALE:GREGORIAN
BEGIN:VEVENT
LOCATION:71 E Main Street\, Patchogue\, NY 11772
DESCRIPTION:
DTSTART:20260918T000000Z
DTEND:20260918T020000Z
SUMMARY:Old Crow Medicine Show
URL;VALUE=URI:https://www.axs.com/events/1415988/old-crow-medicine-show-tickets
DTSTAMP:20260421T192555Z
UID:69e7cf43e7b4a
END:VEVENT
END:VCALENDAR
