BEGIN:VCALENDAR
VERSION:2.0
PRODID:-//hacksw/handcal//NONSGML v1.0//EN
CALSCALE:GREGORIAN
BEGIN:VEVENT
LOCATION:524 Main Street\, Stroudsburg\, PA 18360
DESCRIPTION:
DTSTART:20260815T000000Z
DTEND:20260815T020000Z
SUMMARY:Rich Vos & Jim Florentine
URL;VALUE=URI:https://www.axs.com/events/1416032/rich-vos-jim-florentine-tickets
DTSTAMP:20260422T234813Z
UID:69e95e3dbbbb3
END:VEVENT
END:VCALENDAR
