BEGIN:VCALENDAR
VERSION:2.0
PRODID:-//hacksw/handcal//NONSGML v1.0//EN
CALSCALE:GREGORIAN
BEGIN:VEVENT
LOCATION:1200 Callowhill Street\, Philadelphia\, PA 19108
DESCRIPTION:
DTSTART:20260816T003000Z
DTEND:20260816T023000Z
SUMMARY:Yard Act
URL;VALUE=URI:https://www.axs.com/events/1416045/yard-act-tickets
DTSTAMP:20260421T192400Z
UID:69e7ced0605e3
END:VEVENT
END:VCALENDAR
