BEGIN:VCALENDAR
VERSION:2.0
PRODID:-//hacksw/handcal//NONSGML v1.0//EN
CALSCALE:GREGORIAN
BEGIN:VEVENT
LOCATION:1200 Callowhill Street\, Philadelphia\, PA 19108
DESCRIPTION:
DTSTART:20260904T000000Z
DTEND:20260904T020000Z
SUMMARY:EMAROSA presents: High Horse Heaven Tour
URL;VALUE=URI:https://www.axs.com/events/1416049/emarosa-presents-high-horse-heaven-tour-tickets
DTSTAMP:20260420T233455Z
UID:69e6b81fd8505
END:VEVENT
END:VCALENDAR
