BEGIN:VCALENDAR
VERSION:2.0
PRODID:-//hacksw/handcal//NONSGML v1.0//EN
CALSCALE:GREGORIAN
BEGIN:VEVENT
LOCATION:1200 Callowhill Street\, Philadelphia\, PA 19108
DESCRIPTION:
DTSTART:20260823T233000Z
DTEND:20260824T013000Z
SUMMARY:Faetooth
URL;VALUE=URI:https://www.axs.com/events/1416053/faetooth-tickets
DTSTAMP:20260421T083202Z
UID:69e7360293736
END:VEVENT
END:VCALENDAR
