BEGIN:VCALENDAR
VERSION:2.0
PRODID:-//hacksw/handcal//NONSGML v1.0//EN
CALSCALE:GREGORIAN
BEGIN:VEVENT
LOCATION:E Canal St\, Richmond\, VA 23219
DESCRIPTION:
DTSTART:20260924T000000Z
DTEND:20260924T020000Z
SUMMARY:Violent Femmes
URL;VALUE=URI:https://www.axs.com/events/1416277/violent-femmes-tickets
DTSTAMP:20260421T192644Z
UID:69e7cf745bd76
END:VEVENT
END:VCALENDAR
