BEGIN:VCALENDAR
VERSION:2.0
PRODID:-//hacksw/handcal//NONSGML v1.0//EN
CALSCALE:GREGORIAN
BEGIN:VEVENT
LOCATION:925 4th Ave\, Huntington\, WV 25701
DESCRIPTION:
DTSTART:20260925T000000Z
DTEND:20260925T020000Z
SUMMARY:Violent Femmes
URL;VALUE=URI:https://www.axs.com/events/1416781/violent-femmes-tickets
DTSTAMP:20260421T192807Z
UID:69e7cfc7c8514
END:VEVENT
END:VCALENDAR
