BEGIN:VCALENDAR
VERSION:2.0
PRODID:-//hacksw/handcal//NONSGML v1.0//EN
CALSCALE:GREGORIAN
BEGIN:VEVENT
LOCATION:66 North 6th Street\, Brooklyn\, NY 11249
DESCRIPTION:Preferred Mezzanine includes access to the house left mezzanine on the second floor with limited lounge seating available first come\, first served.
DTSTART:20260529T010000Z
DTEND:20260529T030000Z
SUMMARY:Young M.A.
URL;VALUE=URI:https://www.axs.com/events/1418989/young-ma-tickets
DTSTAMP:20260423T223621Z
UID:69ea9ee580041
END:VEVENT
END:VCALENDAR
