BEGIN:VCALENDAR
VERSION:2.0
PRODID:-//hacksw/handcal//NONSGML v1.0//EN
CALSCALE:GREGORIAN
BEGIN:VEVENT
LOCATION:Gardner Ave. & Thomas St.\, Brooklyn\, NY 11222
DESCRIPTION:
DTSTART:20260828T233000Z
DTEND:20260829T013000Z
SUMMARY:it's murph
URL;VALUE=URI:https://www.axs.com/events/1419449/it-s-murph-tickets
DTSTAMP:20260422T003132Z
UID:69e816e4abd99
END:VEVENT
END:VCALENDAR
