BEGIN:VCALENDAR
VERSION:2.0
PRODID:-//hacksw/handcal//NONSGML v1.0//EN
CALSCALE:GREGORIAN
BEGIN:VEVENT
LOCATION:1027 Flatbush Avenue\, Brooklyn\, NY 11226
DESCRIPTION:
DTSTART:20260829T000000Z
DTEND:20260829T020000Z
SUMMARY:BINI
URL;VALUE=URI:https://www.axs.com/events/1423005/bini-tickets
DTSTAMP:20260424T163402Z
UID:69eb9b7aab56a
END:VEVENT
END:VCALENDAR
