BEGIN:VCALENDAR
VERSION:2.0
PRODID:-//hacksw/handcal//NONSGML v1.0//EN
CALSCALE:GREGORIAN
BEGIN:VEVENT
LOCATION:1200 Callowhill Street\, Philadelphia\, PA 19108
DESCRIPTION:
DTSTART:20260616T000000Z
DTEND:20260616T020000Z
SUMMARY:Wild Nothing
URL;VALUE=URI:https://www.axs.com/events/1423457/wild-nothing-tickets
DTSTAMP:20260423T210723Z
UID:69ea8a0b8ed91
END:VEVENT
END:VCALENDAR
