BEGIN:VCALENDAR
VERSION:2.0
PRODID:-//hacksw/handcal//NONSGML v1.0//EN
CALSCALE:GREGORIAN
BEGIN:VEVENT
LOCATION:5201 Parkside Ave Fairmount Park\, Philadelphia\, PA 19131
DESCRIPTION:
DTSTART:20260807T223000Z
DTEND:20260808T003000Z
SUMMARY:The Red Clay Strays
URL;VALUE=URI:https://www.axs.com/events/1425313/the-red-clay-strays-tickets
DTSTAMP:20260424T144141Z
UID:69eb81255b6f4
END:VEVENT
END:VCALENDAR
