BEGIN:VCALENDAR
VERSION:2.0
PRODID:-//hacksw/handcal//NONSGML v1.0//EN
CALSCALE:GREGORIAN
BEGIN:VEVENT
LOCATION:2124 Broadway\, New York\, NY 10023
DESCRIPTION:
DTSTART:20261001T233000Z
DTEND:20261002T013000Z
SUMMARY:Ray LaMontagne
URL;VALUE=URI:https://www.axs.com/events/846167/ray-lamontagne-tickets
DTSTAMP:20260420T204306Z
UID:69e68fda41664
END:VEVENT
END:VCALENDAR
